BEGIN:VCALENDAR
VERSION:2.0
PRODID:-//hacksw/handcal//NONSGML v1.0//EN
BEGIN:VEVENT
UID:4866@carbolite
ORGANIZER:CN=Carbolite Gero GmbH & Co. KG
DTSTART;VALUE=DATE:20240929
DTEND;VALUE=DATE:20241004
SUMMARY:B-MRS Meeting
LOCATION:Booth #15 - Sao Paulo - Brazil
END:VEVENT
END:VCALENDAR