BEGIN:VCALENDAR
VERSION:2.0
PRODID:-//hacksw/handcal//NONSGML v1.0//EN
BEGIN:VEVENT
UID:4811@carbolite
ORGANIZER:CN=Carbolite Gero GmbH & Co. KG
DTSTART;VALUE=DATE:20240521

SUMMARY:RECYCLING: COME UNO SCARTO DIVENTA RISORSA
LOCATION:Mestre (VE) - Italy
END:VEVENT
END:VCALENDAR