BEGIN:VCALENDAR
VERSION:2.0
PRODID:-//hacksw/handcal//NONSGML v1.0//EN
BEGIN:VEVENT
UID:4804@carbolite
ORGANIZER:CN=Carbolite Gero GmbH & Co. KG
DTSTART;VALUE=DATE:20240611
DTEND;VALUE=DATE:20240614
SUMMARY:CSAT / LSAAT
LOCATION:Worcester, MA - United States
END:VEVENT
END:VCALENDAR