BEGIN:VCALENDAR
VERSION:2.0
PRODID:-//hacksw/handcal//NONSGML v1.0//EN
BEGIN:VEVENT
UID:4746@carbolite
ORGANIZER:CN=Carbolite Gero GmbH & Co. KG
DTSTART;VALUE=DATE:20240226
DTEND;VALUE=DATE:20240229
SUMMARY:MIM
LOCATION:Raleigh, NC - United States
END:VEVENT
END:VCALENDAR