BEGIN:VCALENDAR
VERSION:2.0
PRODID:-//hacksw/handcal//NONSGML v1.0//EN
BEGIN:VEVENT
UID:4743@carbolite
ORGANIZER:CN=Carbolite Gero GmbH & Co. KG
DTSTART;VALUE=DATE:20241203
DTEND;VALUE=DATE:20241207
SUMMARY:MjBizCon
LOCATION:Booth 2135 - Las Vegas, NV - United States
END:VEVENT
END:VCALENDAR