BEGIN:VCALENDAR
VERSION:2.0
PRODID:-//hacksw/handcal//NONSGML v1.0//EN
BEGIN:VEVENT
UID:4727@carbolite
ORGANIZER:CN=Carbolite Gero GmbH & Co. KG
DTSTART;VALUE=DATE:20240520
DTEND;VALUE=DATE:20240524
SUMMARY:SAMPE
LOCATION:Long Beach, CA - United States
END:VEVENT
END:VCALENDAR