BEGIN:VCALENDAR
VERSION:2.0
PRODID:-//hacksw/handcal//NONSGML v1.0//EN
BEGIN:VEVENT
UID:4657@carbolite
ORGANIZER:CN=Carbolite Gero GmbH & Co. KG
DTSTART;VALUE=DATE:20240409
DTEND;VALUE=DATE:20240413
SUMMARY:analytica
LOCATION:Hall A1 - Booth 103 - Munich - Germany
END:VEVENT
END:VCALENDAR