BEGIN:VCALENDAR
VERSION:2.0
PRODID:-//hacksw/handcal//NONSGML v1.0//EN
BEGIN:VEVENT
UID:4619@carbolite
ORGANIZER:CN=Carbolite Gero GmbH & Co. KG
DTSTART;VALUE=DATE:20230906
DTEND;VALUE=DATE:20230909
SUMMARY:BCEIA
LOCATION:Booth MzA3ODgz - Beijing - China
END:VEVENT
END:VCALENDAR