BEGIN:VCALENDAR
VERSION:2.0
PRODID:-//hacksw/handcal//NONSGML v1.0//EN
BEGIN:VEVENT
UID:4618@carbolite
ORGANIZER:CN=Carbolite Gero GmbH & Co. KG
DTSTART;VALUE=DATE:20230829
DTEND;VALUE=DATE:20230901
SUMMARY:Formnext
LOCATION:Booth B121 - Shenzhen - China
END:VEVENT
END:VCALENDAR