BEGIN:VCALENDAR
VERSION:2.0
PRODID:-//hacksw/handcal//NONSGML v1.0//EN
BEGIN:VEVENT
UID:4614@carbolite
ORGANIZER:CN=Carbolite Gero GmbH & Co. KG
DTSTART;VALUE=DATE:20230615
DTEND;VALUE=DATE:20230618
SUMMARY:IAME
LOCATION:Booth E26 - XiAn - China
END:VEVENT
END:VCALENDAR