BEGIN:VCALENDAR
VERSION:2.0
PRODID:-//hacksw/handcal//NONSGML v1.0//EN
BEGIN:VEVENT
UID:4612@carbolite
ORGANIZER:CN=Carbolite Gero GmbH & Co. KG
DTSTART;VALUE=DATE:20230531
DTEND;VALUE=DATE:20230603
SUMMARY:Powder Metallurgy China
LOCATION:Booth A605 - Shanghai - China
END:VEVENT
END:VCALENDAR