BEGIN:VCALENDAR
VERSION:2.0
PRODID:-//hacksw/handcal//NONSGML v1.0//EN
BEGIN:VEVENT
UID:4517@carbolite
ORGANIZER:CN=Carbolite Gero GmbH & Co. KG
DTSTART;VALUE=DATE:20230222
DTEND;VALUE=DATE:20230225
SUMMARY:A&T
LOCATION:Hall Oval - Booth E37 - Torino - Italy
END:VEVENT
END:VCALENDAR