BEGIN:VCALENDAR
VERSION:2.0
PRODID:-//hacksw/handcal//NONSGML v1.0//EN
BEGIN:VEVENT
UID:4490@carbolite
ORGANIZER:CN=Carbolite Gero GmbH & Co. KG
DTSTART;VALUE=DATE:20230403
DTEND;VALUE=DATE:20230406
SUMMARY:British Zeolite Association AGM
LOCATION:Manchester Metropolitan University - United Kingdom
END:VEVENT
END:VCALENDAR