BEGIN:VCALENDAR
VERSION:2.0
PRODID:-//hacksw/handcal//NONSGML v1.0//EN
BEGIN:VEVENT
UID:4487@carbolite
ORGANIZER:CN=Carbolite Gero GmbH & Co. KG
DTSTART;VALUE=DATE:20230607
DTEND;VALUE=DATE:20230609
SUMMARY:TCT 3Sixty
LOCATION:Hall 1 - Booth H1 - NEC, Birmingham - United Kingdom
END:VEVENT
END:VCALENDAR