BEGIN:VCALENDAR
VERSION:2.0
PRODID:-//hacksw/handcal//NONSGML v1.0//EN
BEGIN:VEVENT
UID:4481@carbolite
ORGANIZER:CN=Carbolite Gero GmbH & Co. KG
DTSTART;VALUE=DATE:20221031
DTEND;VALUE=DATE:20221105
SUMMARY:ASTM International Conference on Additive Manufacturing
LOCATION:Booth #22 - Orlando, FL - United States
END:VEVENT
END:VCALENDAR