BEGIN:VCALENDAR
VERSION:2.0
PRODID:-//hacksw/handcal//NONSGML v1.0//EN
BEGIN:VEVENT
UID:4403@carbolite
ORGANIZER:CN=Carbolite Gero GmbH & Co. KG
DTSTART;VALUE=DATE:20220609
DTEND;VALUE=DATE:20220612
SUMMARY:MECSPE
LOCATION:Hall 29 - Booth D27 - Bologna - Italy
END:VEVENT
END:VCALENDAR