BEGIN:VCALENDAR
VERSION:2.0
PRODID:-//hacksw/handcal//NONSGML v1.0//EN
BEGIN:VEVENT
UID:4377@carbolite
ORGANIZER:CN=Carbolite Gero GmbH & Co. KG
DTSTART;VALUE=DATE:20220512
DTEND;VALUE=DATE:20220515
SUMMARY:TCT Asia
LOCATION:Shanghai - China
END:VEVENT
END:VCALENDAR