BEGIN:VCALENDAR
VERSION:2.0
PRODID:-//hacksw/handcal//NONSGML v1.0//EN
BEGIN:VEVENT
UID:4367@carbolite
ORGANIZER:CN=Carbolite Gero GmbH & Co. KG
DTSTART;VALUE=DATE:20220510
DTEND;VALUE=DATE:20220513
SUMMARY:Fenagra
LOCATION:Brazil
END:VEVENT
END:VCALENDAR