BEGIN:VCALENDAR
VERSION:2.0
PRODID:-//hacksw/handcal//NONSGML v1.0//EN
BEGIN:VEVENT
UID:3999@carbolite
ORGANIZER:CN=Carbolite Gero GmbH & Co. KG
DTSTART;VALUE=DATE:20200124
DTEND;VALUE=DATE:20200129
SUMMARY:Indian Metal Forming Expo
LOCATION:Hall 3A - Booth I101 - Bangalore - India
END:VEVENT
END:VCALENDAR