BEGIN:VCALENDAR
VERSION:2.0
PRODID:-//hacksw/handcal//NONSGML v1.0//EN
BEGIN:VEVENT
UID:3996@carbolite
ORGANIZER:CN=Carbolite Gero GmbH & Co. KG
DTSTART;VALUE=DATE:20200212
DTEND;VALUE=DATE:20200215
SUMMARY:A & T
LOCATION:Turin - Italy
END:VEVENT
END:VCALENDAR