BEGIN:VCALENDAR
VERSION:2.0
PRODID:-//hacksw/handcal//NONSGML v1.0//EN
BEGIN:VEVENT
UID:3956@carbolite
ORGANIZER:CN=Carbolite Gero GmbH & Co. KG
DTSTART;VALUE=DATE:20200302
DTEND;VALUE=DATE:20191105
SUMMARY:International Conference on Injection Molding of Metals, Ceramics and Carbides
LOCATION:Irvine, CA - United States
END:VEVENT
END:VCALENDAR