BEGIN:VCALENDAR
VERSION:2.0
PRODID:-//hacksw/handcal//NONSGML v1.0//EN
BEGIN:VEVENT
UID:3955@carbolite
ORGANIZER:CN=Carbolite Gero GmbH & Co. KG
DTSTART;VALUE=DATE:20200301
DTEND;VALUE=DATE:20200306
SUMMARY:Pittcon
LOCATION:Booth 2913, 3013 - Chicago - United States
END:VEVENT
END:VCALENDAR