BEGIN:VCALENDAR
VERSION:2.0
PRODID:-//hacksw/handcal//NONSGML v1.0//EN
BEGIN:VEVENT
UID:3889@carbolite
ORGANIZER:CN=Carbolite Gero GmbH & Co. KG
DTSTART;VALUE=DATE:20190626
DTEND;VALUE=DATE:20190629
SUMMARY:NANOTECH FRANCE 2019
LOCATION:Hall Palais des congrès - Issy-les-moulineaux - France
END:VEVENT
END:VCALENDAR