BEGIN:VCALENDAR
VERSION:2.0
PRODID:-//hacksw/handcal//NONSGML v1.0//EN
BEGIN:VEVENT
UID:3875@carbolite
ORGANIZER:CN=Carbolite Gero GmbH & Co. KG
DTSTART;VALUE=DATE:20190924
DTEND;VALUE=DATE:20190927
SUMMARY:Analitica Latin America
LOCATION:Booth G037H - Sao Paulo - Brazil
END:VEVENT
END:VCALENDAR