BEGIN:VCALENDAR
VERSION:2.0
PRODID:-//hacksw/handcal//NONSGML v1.0//EN
BEGIN:VEVENT
UID:3769@carbolite
ORGANIZER:CN=Carbolite Gero GmbH & Co. KG
DTSTART;VALUE=DATE:20190221
DTEND;VALUE=DATE:20190224
SUMMARY:TCT Asia
LOCATION:Booth W5 - M15 - Shanghai - China
END:VEVENT
END:VCALENDAR