BEGIN:VCALENDAR
VERSION:2.0
PRODID:-//hacksw/handcal//NONSGML v1.0//EN
BEGIN:VEVENT
UID:3768@carbolite
ORGANIZER:CN=Carbolite Gero GmbH & Co. KG
DTSTART;VALUE=DATE:20190325
DTEND;VALUE=DATE:20190328
SUMMARY:Powder Metallurgy China
LOCATION:Booth A100 - Shanghai - China
END:VEVENT
END:VCALENDAR