BEGIN:VCALENDAR
VERSION:2.0
PRODID:-//hacksw/handcal//NONSGML v1.0//EN
BEGIN:VEVENT
UID:3767@carbolite
ORGANIZER:CN=Carbolite Gero GmbH & Co. KG
DTSTART;VALUE=DATE:20190821
DTEND;VALUE=DATE:20190825
SUMMARY:Coal Africa
LOCATION:Booth A25 - Secunda - South Africa
END:VEVENT
END:VCALENDAR