BEGIN:VCALENDAR
VERSION:2.0
PRODID:-//hacksw/handcal//NONSGML v1.0//EN
BEGIN:VEVENT
UID:3765@carbolite
ORGANIZER:CN=Carbolite Gero GmbH & Co. KG
DTSTART;VALUE=DATE:20190604
DTEND;VALUE=DATE:20190607
SUMMARY:Caminex
LOCATION:Hall 1 - Booth B04 - Kitwe - Zambia
END:VEVENT
END:VCALENDAR