BEGIN:VCALENDAR
VERSION:2.0
PRODID:-//hacksw/handcal//NONSGML v1.0//EN
BEGIN:VEVENT
UID:3759@carbolite
ORGANIZER:CN=Carbolite Gero GmbH & Co. KG
DTSTART;VALUE=DATE:20191201
DTEND;VALUE=DATE:20191207
SUMMARY:MRS Fall Meeting
LOCATION:Boston, MA - United States
END:VEVENT
END:VCALENDAR