BEGIN:VCALENDAR
VERSION:2.0
PRODID:-//hacksw/handcal//NONSGML v1.0//EN
BEGIN:VEVENT
UID:3755@carbolite
ORGANIZER:CN=Carbolite Gero GmbH & Co. KG
DTSTART;VALUE=DATE:20190623
DTEND;VALUE=DATE:20190627
SUMMARY:Powdermet
LOCATION:Phoenix, AZ - United States
END:VEVENT
END:VCALENDAR