BEGIN:VCALENDAR
VERSION:2.0
PRODID:-//hacksw/handcal//NONSGML v1.0//EN
BEGIN:VEVENT
UID:3746@carbolite
ORGANIZER:CN=Carbolite Gero GmbH & Co. KG
DTSTART;VALUE=DATE:20190213
DTEND;VALUE=DATE:20190216
SUMMARY:Automation & Testing
LOCATION:Booth G32 - Turin - Italy
END:VEVENT
END:VCALENDAR