BEGIN:VCALENDAR
VERSION:2.0
PRODID:-//hacksw/handcal//NONSGML v1.0//EN
BEGIN:VEVENT
UID:3737@carbolite
ORGANIZER:CN=Carbolite Gero GmbH & Co. KG
DTSTART;VALUE=DATE:20190917
DTEND;VALUE=DATE:20190920
SUMMARY:Heat Treatment
LOCATION:Booth E01 - Moscow - Russia
END:VEVENT
END:VCALENDAR