BEGIN:VCALENDAR
VERSION:2.0
PRODID:-//hacksw/handcal//NONSGML v1.0//EN
BEGIN:VEVENT
UID:3735@carbolite
ORGANIZER:CN=Carbolite Gero GmbH & Co. KG
DTSTART;VALUE=DATE:20190514
DTEND;VALUE=DATE:20190518
SUMMARY:LITMASH
LOCATION:Moscow - Russia
END:VEVENT
END:VCALENDAR