BEGIN:VCALENDAR
VERSION:2.0
PRODID:-//hacksw/handcal//NONSGML v1.0//EN
BEGIN:VEVENT
UID:3527@carbolite
ORGANIZER:CN=Carbolite Gero GmbH & Co. KG
DTSTART;VALUE=DATE:20180605
DTEND;VALUE=DATE:20180608
SUMMARY:Thermal Processig in Motion
LOCATION:Spartanburg, SC - United States
END:VEVENT
END:VCALENDAR