BEGIN:VCALENDAR
VERSION:2.0
PRODID:-//hacksw/handcal//NONSGML v1.0//EN
BEGIN:VEVENT
UID:3511@carbolite
ORGANIZER:CN=Carbolite Gero GmbH & Co. KG
DTSTART;VALUE=DATE:20180313

SUMMARY:NJ Asphalt Paving Conference
LOCATION:New Jersey - United States
END:VEVENT
END:VCALENDAR