BEGIN:VCALENDAR
VERSION:2.0
PRODID:-//hacksw/handcal//NONSGML v1.0//EN
BEGIN:VEVENT
UID:3476@carbolite
ORGANIZER:CN=Carbolite Gero GmbH & Co. KG
DTSTART;VALUE=DATE:20180418
DTEND;VALUE=DATE:20180421
SUMMARY:A&T Automation & Testing
LOCATION:Turin - Italy
END:VEVENT
END:VCALENDAR