BEGIN:VCALENDAR
VERSION:2.0
PRODID:-//hacksw/handcal//NONSGML v1.0//EN
BEGIN:VEVENT
UID:3452@carbolite
ORGANIZER:CN=Carbolite Gero GmbH & Co. KG
DTSTART;VALUE=DATE:20180713
DTEND;VALUE=DATE:20180716
SUMMARY:Chinese Materials Conference
LOCATION:Yinchuan, Ningxia - China
END:VEVENT
END:VCALENDAR