BEGIN:VCALENDAR
VERSION:2.0
PRODID:-//hacksw/handcal//NONSGML v1.0//EN
BEGIN:VEVENT
UID:3440@carbolite
ORGANIZER:CN=Carbolite Gero GmbH & Co. KG
DTSTART;VALUE=DATE:20180328
DTEND;VALUE=DATE:20180330
SUMMARY:Forum Labo
LOCATION:Booth A16 - Lyon - France
END:VEVENT
END:VCALENDAR