BEGIN:VCALENDAR
VERSION:2.0
PRODID:-//hacksw/handcal//NONSGML v1.0//EN
BEGIN:VEVENT
UID:3422@carbolite
ORGANIZER:CN=Carbolite Gero GmbH & Co. KG
DTSTART;VALUE=DATE:20181023
DTEND;VALUE=DATE:20181026
SUMMARY:Testing & Control
LOCATION:Hall 1.3 - Booth E107 - Moscow - Russia
END:VEVENT
END:VCALENDAR