BEGIN:VCALENDAR
VERSION:2.0
PRODID:-//hacksw/handcal//NONSGML v1.0//EN
BEGIN:VEVENT
UID:3350@carbolite
ORGANIZER:CN=Carbolite Gero GmbH & Co. KG
DTSTART;VALUE=DATE:20180206
DTEND;VALUE=DATE:20180209
SUMMARY:Southern Manufacturing
LOCATION:Booth E200 - Farnborough - United Kingdom
END:VEVENT
END:VCALENDAR