BEGIN:VCALENDAR
VERSION:2.0
PRODID:-//hacksw/handcal//NONSGML v1.0//EN
BEGIN:VEVENT
UID:3326@carbolite
ORGANIZER:CN=Carbolite Gero GmbH & Co. KG
DTSTART;VALUE=DATE:20180611
DTEND;VALUE=DATE:20180616
SUMMARY:Achema
LOCATION:Hall 4.1 - Booth J7 - Frankfurt am Main - Germany
END:VEVENT
END:VCALENDAR