BEGIN:VCALENDAR
VERSION:2.0
PRODID:-//hacksw/handcal//NONSGML v1.0//EN
BEGIN:VEVENT
UID:4321@carbolite
ORGANIZER:CN=Carbolite Gero GmbH & Co. KG
DTSTART;VALUE=DATE:20210525
DTEND;VALUE=DATE:20210526
SUMMARY:ASHING DEMONSTRATION FOR FOOD AND FEED
LOCATION:ONLINE WORKSHOP
END:VEVENT
END:VCALENDAR