BEGIN:VCALENDAR
VERSION:2.0
PRODID:-//hacksw/handcal//NONSGML v1.0//EN
BEGIN:VEVENT
UID:4310@carbolite
ORGANIZER:CN=Carbolite Gero GmbH & Co. KG
DTSTART;VALUE=DATE:20210216
DTEND;VALUE=DATE:20210217
SUMMARY:Oven & Furnace Solutions for Coal & Coke Standards Testing
LOCATION:ONLINE WEBINAR
END:VEVENT
END:VCALENDAR