BEGIN:VCALENDAR
VERSION:2.0
PRODID:-//hacksw/handcal//NONSGML v1.0//EN
BEGIN:VEVENT
UID:4309@carbolite
ORGANIZER:CN=Carbolite Gero GmbH & Co. KG
DTSTART;VALUE=DATE:20210202
DTEND;VALUE=DATE:20210211
SUMMARY:VERDER SCIENTIFIC ONLINE DAYS
LOCATION:WEBINARS with all manufacturers
END:VEVENT
END:VCALENDAR