BEGIN:VCALENDAR
VERSION:2.0
PRODID:-//hacksw/handcal//NONSGML v1.0//EN
BEGIN:VEVENT
UID:4124@carbolite
ORGANIZER:CN=Carbolite Gero GmbH & Co. KG
DTSTART;VALUE=DATE:20201117
DTEND;VALUE=DATE:20201118
SUMMARY:Thermal Cleaning & Ashing in a Furnace
LOCATION:WEBINAR
END:VEVENT
END:VCALENDAR