BEGIN:VCALENDAR
VERSION:2.0
PRODID:-//hacksw/handcal//NONSGML v1.0//EN
BEGIN:VEVENT
UID:4123@carbolite
ORGANIZER:CN=Carbolite Gero GmbH & Co. KG
DTSTART;VALUE=DATE:20200915
DTEND;VALUE=DATE:20200916
SUMMARY:Gas Atmospheres & Vacuums in Furnaces - Safety, Quality & Control
LOCATION:WEBINAR
END:VEVENT
END:VCALENDAR