BEGIN:VCALENDAR
VERSION:2.0
PRODID:-//hacksw/handcal//NONSGML v1.0//EN
BEGIN:VEVENT
UID:4122@carbolite
ORGANIZER:CN=Carbolite Gero GmbH & Co. KG
DTSTART;VALUE=DATE:20200819
DTEND;VALUE=DATE:20200820
SUMMARY:Rotating Tube Furnace Solutions
LOCATION:WEBINAR
END:VEVENT
END:VCALENDAR