BEGIN:VCALENDAR
VERSION:2.0
PRODID:-//hacksw/handcal//NONSGML v1.0//EN
BEGIN:VEVENT
UID:5751@carbolite
ORGANIZER:CN=Carbolite Gero GmbH & Co. KG
DTSTART;VALUE=DATE:20260324
DTEND;VALUE=DATE:20260328
SUMMARY:Analytica
LOCATION:Hall Messe München - Booth A1.302 - Munich - Germany
END:VEVENT
END:VCALENDAR