BEGIN:VCALENDAR
VERSION:2.0
PRODID:-//hacksw/handcal//NONSGML v1.0//EN
BEGIN:VEVENT
UID:5722@carbolite
ORGANIZER:CN=Carbolite Gero GmbH & Co. KG
DTSTART;VALUE=DATE:20251118
DTEND;VALUE=DATE:20251122
SUMMARY:Formnext
LOCATION:Hall 12 - Booth 120-C99 - Frankfurt - Germany
END:VEVENT
END:VCALENDAR