BEGIN:VCALENDAR
VERSION:2.0
PRODID:-//hacksw/handcal//NONSGML v1.0//EN
BEGIN:VEVENT
UID:5555@carbolite
ORGANIZER:CN=Carbolite Gero GmbH & Co. KG
DTSTART;VALUE=DATE:20250630
DTEND;VALUE=DATE:20250703
SUMMARY:Ceramic AM Summit
LOCATION:Berlin - Germany
END:VEVENT
END:VCALENDAR